{"text_format":"1","workbook":"xlsx","n_sheets":15,"sheets":["ANEXO-D","DME","NDB","VOR","DVOR","VDB","EST","GS","LOC","MARC","ALS","VASIS","ASR","ADSB","PAR"],"not_rendered":{"charts":0,"images":1,"macros":1,"external_links":0,"defined_names":3,"comments":1,"pivot_tables":0},"unopened":[],"bounds":{"document_bytes":16777216,"sheet_cells":100000,"rows_first":2000,"rows_last":500,"rows_between":2000,"halvings":0,"cell_chars":16384,"cell_head_chars":4096},"cells_cut":0,"cells_raw":0,"read":"whole","date_system":"1900"}

{"sheet":"ANEXO-D","index":0,"n_rows":164,"n_cols":6,"rows_kept":164,"cut":false,"hidden":false,"merged":[[0,0,0,5],[2,0,2,5]]}
["COMANDO DA AERONÁUTICA\nFICHA INFORMATIVA DE AUXÍLIOS À NAVEGAÇÃO AÉREA\nAnexo D à ICA 63-19"]
[]
["Características dos Auxílios à Navegação Aérea e das Superfícies Limitadoras de Obstáculos"]
[]
["A","Equipamento Medidor de Distâncias (DME):","DME 1","DME 2","DME 3","DME 4"]
["A1","Indicativo:"]
["A2","Coordenadas geográficas (latitude):"]
["A3","Coordenadas geográficas (longitude):"]
["A4","Raio da seção horizontal (m):"]
["A5","Cota da seção horizontal (m):"]
["A6","Raio menor da seção em rampa (m):"]
["A7","Raio maior da seção em rampa (m):"]
["A8","Cota inferior da seção em rampa (m):"]
["A9","Cota superior da seção em rampa (m):"]
["A10","Gradiente da seção em rampa (%):"]
[]
["B","Radiofarol Não Direcional (NDB):",{"$f":"NDB!C2","v":"NDB 1"},{"$f":"NDB!D2","v":"NDB 2"},{"$f":"NDB!E2","v":"NDB 3"},{"$f":"NDB!F2","v":"NDB 4"}]
["B1","Indicativo:"]
["B2","Coordenadas geográficas (latitude):"]
["B3","Coordenadas geográficas (longitude):"]
["B4","Raio da seção horizontal:"]
["B5","Cota da seção horizontal:"]
["B6","Raio menor da seção em rampa:"]
["B7","Raio maior da seção em rampa:"]
["B8","Cota inferior da seção em rampa:"]
["B9","Cota superior da seção em rampa:"]
["B10","Gradiente da seção em rampa:"]
[]
["C","Radiofarol Omnidirecional em VHF (VOR):",{"$f":"VOR!C2","v":"VOR 1"},{"$f":"VOR!D2","v":"VOR 2"},{"$f":"VOR!E2","v":"VOR 3"},{"$f":"VOR!F2","v":"VOR 4"}]
["C1","Indicativo:"]
["C2","Coordenadas geográficas (latitude):"]
["C3","Coordenadas geográficas (longitude):"]
["C4","Raio da seção horizontal (m):"]
["C5","Cota da seção horizontal (m):"]
["C6","Raio menor da seção em rampa (m):"]
["C7","Raio maior da seção em rampa (m):"]
["C8","Cota inferior da seção em rampa (m):"]
["C9","Cota superior da seção em rampa (m):"]
["C10","Gradiente da seção em rampa (%):"]
[]
["D","Radiofarol Omnidirecional em VHF (DVOR):",{"$f":"DVOR!C2","v":"DVOR 1"},{"$f":"DVOR!D2","v":"DVOR 2"},{"$f":"DVOR!E2","v":"DVOR 3"},{"$f":"DVOR!F2","v":"DVOR 4"}]
["D1","Indicativo:"]
["D2","Coordenadas geográficas (latitude):"]
["D3","Coordenadas geográficas (longitude):"]
["D4","Raio da seção horizontal (m):"]
["D5","Cota da seção horizontal (m):"]
["D6","Raio menor da seção em rampa (m):"]
["D7","Raio maior da seção em rampa (m):"]
["D8","Cota inferior da seção em rampa (m):"]
["D9","Cota superior da seção em rampa (m):"]
["D10","Gradiente da seção em rampa (%):"]
[]
["E","Transmissor de Dados VHF (VDB):",{"$f":"VDB!C2","v":"VDB 1"},{"$f":"VDB!D2","v":"VDB 2"},{"$f":"VDB!E2","v":"VDB 3"},{"$f":"VDB!F2","v":"VDB 4"}]
["E1","Indicativo:"]
["E2","Coordenadas geográficas (latitude):"]
["E3","Coordenadas geográficas (longitude):"]
["E4","Raio da seção horizontal (m):"]
["E5","Cota da seção horizontal (m):"]
["E6","Raio menor da seção em rampa (m):"]
["E7","Raio maior da seção em rampa (m):"]
["E8","Cota inferior da seção em rampa (m):"]
["E9","Cota superior da seção em rampa (m):"]
["E10","Gradiente da seção em rampa (%):"]
[]
["F","Estação de Referência:",{"$f":"EST!C2","v":"EST 1"},{"$f":"EST!D2","v":"EST 2"},{"$f":"EST!E2","v":"EST 3"},{"$f":"EST!F2","v":"EST 4"}]
["F1","Indicativo:"]
["F2","Coordenadas geográficas (latitude):"]
["F3","Coordenadas geográficas (longitude):"]
["F4","Raio da seção horizontal (m):"]
["F5","Cota da seção horizontal (m):"]
["F6","Raio menor da seção em rampa (m):"]
["F7","Raio maior da seção em rampa (m):"]
["F8","Cota inferior da seção em rampa (m):"]
["F9","Cota superior da seção em rampa (m):"]
["F10","Gradiente da seção em rampa (%):"]
[]
["G","Transmissor de Rampa de Planeio (GS):",{"$f":"GS!C2","v":"GS 1"},{"$f":"GS!D2","v":"GS 2"},{"$f":"GS!E2","v":"GS 3"},{"$f":"GS!F2","v":"GS 4"}]
["G1","Cabeceira servida:"]
["G2","Coordenadas geográficas (latitude):"]
["G3","Coordenadas geográficas (longitude):"]
["G4","Comprimento da seção horizontal (m):"]
["G5","Largura da seção horizontal (m):"]
["G6","Cota da seção horizontal (m):"]
["G7","Comprimento da seção em rampa (m):"]
["G8","Largura da seção em rampa (m):"]
["G9","Cota inferior da seção em rampa (m):"]
["G10","Cota superior da seção em rampa (m):"]
["G11","Gradiente da seção em rampa (%):"]
[]
["H","Localizador (LOC):",{"$f":"LOC!C2","v":"LOC 1"},{"$f":"LOC!D2","v":"LOC 2"},{"$f":"LOC!E2","v":"LOC 3"},{"$f":"LOC!F2","v":"LOC 4"}]
["H1","Indicativo:"]
["H2","Coordenadas geográficas (latitude):"]
["H3","Coordenadas geográficas (longitude):"]
["H4","Comprimento da seção horizontal (m):"]
["H5","Largura da seção horizontal (m):"]
["H6","Cota da seção horizontal (m):"]
[]
["I","Marcador:",{"$f":"MARC!C2","v":"MARC 1"},{"$f":"MARC!D2","v":"MARC 2"},{"$f":"MARC!E2","v":"MARC 3"},{"$f":"MARC!F2","v":"MARC 4"}]
["I1","Indicativo:"]
["I2","Cabeceira servida:"]
["I3","Coordenadas geográficas (latitude):"]
["I4","Coordenadas geográficas (longitude):"]
["I5","Raio da seção horizontal (m):"]
["I6","Cota da seção horizontal (m):"]
[]
["J","Sistema de Iluminação de Aproximação (ALS):",{"$f":"ALS!C2","v":"ALS 1"},{"$f":"ALS!D2","v":"ALS 2"},{"$f":"ALS!E2","v":"ALS 3"},{"$f":"ALS!F2","v":"ALS 4"}]
["J1","Cabeceira servida:"]
["J2","Comprimento da seção horizontal (m):"]
["J3","Largura da seção horizontal (m):"]
["J4","Cota da seção horizontal (m):"]
["J5","Comprimento da seção em rampa (m):"]
["J6","Largura da seção em rampa (m):"]
["J7","Cota inferior da seção em rampa (m):"]
["J8","Cota superior da seção em rampa (m):"]
["J9","Gradiente da seção em rampa (%):"]
[]
["K","Sistemas Indicadores de Rampa de Aproximação Visual (VASIS, PAPI e APAPI):",{"$f":"VASIS!C2","v":"EQUIP 1"},{"$f":"VASIS!D2","v":"EQUIP 2"},{"$f":"VASIS!E2","v":"EQUIP 3"},{"$f":"VASIS!F2","v":"EQUIP 4"}]
["K1","Cabeceira servida:"]
["K2","Largura da borda interna (m):"]
["K3","Distância da cabeceira (m):"]
["K4","Elevação da borda interna (m):"]
["K5","Divergência (%):"]
["K6","Comprimento (m):"]
["K7","Gradiente (%):"]
["K8","Elevação da borda externa (m):"]
[]
["L","Radar de Vigilância (ASR) / Meteorológico:",{"$f":"ASR!C2","v":"EQUIP 1"},{"$f":"ASR!D2","v":"EQUIP 2"},{"$f":"ASR!E2","v":"EQUIP 3"},{"$f":"ASR!F2","v":"EQUIP 4"}]
["L1","Coordenadas geográficas (latitude):"]
["L2","Coordenadas geográficas (longitude):"]
["L3","Raio da seção horizontal (m):"]
["L4","Cota da seção horizontal (m):"]
["L5","Raio menor da seção em rampa (m):"]
["L6","Raio maior da seção em rampa (m):"]
["L7","Cota inferior da seção em rampa (m):"]
["L8","Cota superior da seção em rampa (m):"]
["L9","Gradiente da seção em rampa (%):"]
[]
["M","Vigilância com Localização Automática Dependente por Radiodifusão (ADS-B):",{"$f":"ADSB!C2","v":"ADS-B 1"},{"$f":"ADSB!D2","v":"ADS-B 2"},{"$f":"ADSB!E2","v":"ADS-B 3"},{"$f":"ADSB!F2","v":"ADS-B 4"}]
["M1","Coordenadas geográficas (latitude):"]
["M2","Coordenadas geográficas (longitude):"]
["M3","Raio da seção horizontal (m):"]
["M4","Cota da seção horizontal (m):"]
["M5","Raio menor da seção em rampa (m):"]
["M6","Raio maior da seção em rampa (m):"]
["M7","Cota inferior da seção em rampa (m):"]
["M8","Cota superior da seção em rampa (m):"]
["M9","Gradiente da seção em rampa (%):"]
[]
["N","Radar de Aproximação de Precisão (PAR):",{"$f":"PAR!C2","v":"PAR 1"},{"$f":"PAR!D2","v":"PAR 2"},{"$f":"PAR!E2","v":"PAR 3"},{"$f":"PAR!F2","v":"PAR 4"}]
["N1","Coordenadas geográficas (latitude):"]
["N2","Coordenadas geográficas (longitude):"]
["N3","Raio da seção horizontal 1 (m):"]
["N4","Cota da seção horizontal 1 (m):"]
["N5","Abertura para o lado da pista da seção horizontal 2 (%):"]
["N6","Abertura para o lado oposto da pista da seção horizontal 2 (%):"]
["N7","Raio da seção horizontal 2 (m):"]
["N8","Cota da seção horizontal 2 (m):"]
["N9","Abertura para o lado da pista da seção em rampa (%):"]
["N10","Abertura para o lado oposto da pista da em rampa (%):"]
["N11","Raio menor da seção em rampa (m):"]
["N12","Raio maior da seção em rampa (m):"]
["N13","Cota inferior da seção em rampa (m):"]
["N14","Cota superior da seção em rampa (m):"]
["N15","Gradiente da seção em rampa (%):"]

{"sheet":"DME","index":1,"n_rows":21,"n_cols":6,"rows_kept":21,"cut":false,"hidden":true,"merged":[]}
[]
["A","Equipamento Medidor de Distâncias (DME):","DME 1","DME 2","DME 3","DME 4"]
["A1","Indicativo:","teste","ssss",1]
["A2","Coordenadas geográficas (latitude):",{"$f":"C16*10000+C17*100+C18","v":121212},{"$f":"D16*10000+D17*100+D18","v":10000},10101,10101]
["A3","Coordenadas geográficas (longitude):",{"$f":"C19*10000+C20*100+C21","v":444444},{"$f":"D19*10000+D20*100+D21","v":10000},10101,10101]
["A4","Raio da seção horizontal (m):",100,100,100,100]
["A5","Cota da seção horizontal (m):",{"$f":"C15","v":23},{"$f":"D15","v":1},{"$f":"E15","v":1},{"$f":"F15","v":1}]
["A6","Raio menor da seção em rampa (m):",100,100,100,100]
["A7","Raio maior da seção em rampa (m):",5100,5100,5100,5100]
["A8","Cota inferior da seção em rampa (m):",{"$f":"C7","v":23},{"$f":"D7","v":1},{"$f":"E7","v":1},{"$f":"F7","v":1}]
["A9","Cota superior da seção em rampa (m):",{"$f":"C10+(C9-C8)*C12","v":223},{"$f":"D10+(D9-D8)*D12","v":201},{"$f":"E10+(E9-E8)*E12","v":201},{"$f":"F10+(F9-F8)*F12","v":201}]
["A10","Gradiente da seção em rampa (%):",0.04,0.04,0.04,0.04]
[]
[]
[null,"ALTITUDE DA BASE DA ANTENA DO DME",23,1,1,1]
[null,"LATITUDE",12,1,1,1]
[null,null,12,null,1,1]
[null,null,12,null,1,1]
[null,"LONGITUDE",44,1,1,1]
[null,null,44,null,1,1]
[null,null,44,null,1,1]

{"sheet":"NDB","index":2,"n_rows":21,"n_cols":6,"rows_kept":21,"cut":false,"hidden":true,"merged":[]}
[]
["B","Radiofarol Não Direcional (NDB):","NDB 1","NDB 2","NDB 3","NDB 4"]
["B1","Indicativo:",1,1,1,1]
["B2","Coordenadas geográficas (latitude):",{"$f":"C16*10000+C17*100+C18","v":10101},{"$f":"D16*10000+D17*100+D18","v":10101},10101,10101]
["B3","Coordenadas geográficas (longitude):",{"$f":"C19*10000+C20*100+C21","v":10101},{"$f":"D19*10000+D20*100+D21","v":10101},10101,10100]
["B4","Raio da seção horizontal:",{"$f":"C14","v":1},1,1,1]
["B5","Cota da seção horizontal:",1,1,1,1]
["B6","Raio menor da seção em rampa:",{"$f":"C14","v":1},{"$f":"D14","v":1},{"$f":"E14","v":1},{"$f":"F14","v":1}]
["B7","Raio maior da seção em rampa:",{"$f":"C14+200","v":201},{"$f":"D14+200","v":201},{"$f":"E14+200","v":201},{"$f":"F14+200","v":201}]
["B8","Cota inferior da seção em rampa:",{"$f":"C7","v":1},{"$f":"D7","v":1},{"$f":"E7","v":1},{"$f":"F7","v":1}]
["B9","Cota superior da seção em rampa:",{"$f":"C15+C14","v":2},{"$f":"D15+D14","v":2},{"$f":"E15+E14","v":2},{"$f":"F15+F14","v":2}]
["B10","Gradiente da seção em rampa:",{"$f":"C6/200","v":5.0000000000000001E-3},{"$f":"D6/200","v":5.0000000000000001E-3},{"$f":"E6/200","v":5.0000000000000001E-3},{"$f":"F6/200","v":5.0000000000000001E-3}]
[]
[null,"Altura da antena",1,1,1,1]
[null,"base da antena",1,1,1,1]
[null,"LATITUDE",1,1,1,1]
[null,null,1,1,1,1]
[null,null,1,1,1,1]
[null,"LONGITUDE",1,1,1,1]
[null,null,1,1,1,1]
[null,null,1,1,1]

{"sheet":"VOR","index":3,"n_rows":21,"n_cols":6,"rows_kept":21,"cut":false,"hidden":true,"merged":[]}
[]
["C","Radiofarol Omnidirecional em VHF (VOR):","VOR 1","VOR 2","VOR 3","VOR 4"]
["C1","Indicativo:",1,1,1,1]
["C2","Coordenadas geográficas (latitude):",{"$f":"C16*10000+C17*100+C18","v":10101},{"$f":"D16*10000+D17*100+D18","v":10101},10101,10101]
["C3","Coordenadas geográficas (longitude):",{"$f":"C19*10000+C20*100+C21","v":10101},{"$f":"D19*10000+D20*100+D21","v":10101},10101,101]
["C4","Raio da seção horizontal (m):",100,100,100,100]
["C5","Cota da seção horizontal (m):",{"$f":"C15","v":1},{"$f":"D15","v":1},{"$f":"E15","v":1},{"$f":"F15","v":1}]
["C6","Raio menor da seção em rampa (m):",100,100,100,100]
["C7","Raio maior da seção em rampa (m):",15100,15100,15100,15100]
["C8","Cota inferior da seção em rampa (m):",{"$f":"C15","v":1},{"$f":"D15","v":1},{"$f":"E15","v":1},{"$f":"F15","v":1}]
["C9","Cota superior da seção em rampa (m):",{"$f":"(C9-C8)*C12+C7","v":301},{"$f":"(D9-D8)*D12+D7","v":301},{"$f":"(E9-E8)*E12+E7","v":301},{"$f":"(F9-F8)*F12+F7","v":301}]
["C10","Gradiente da seção em rampa (%):",0.02,0.02,0.02,0.02]
[]
[]
[null,"altituda da base da antena",1,1,1,1]
[null,"LATITUDE",1,1,1,1]
[null,null,1,1,1,1]
[null,null,1,1,1,1]
[null,"LONGITUDE",1,1,1]
[null,null,1,1,1,1]
[null,null,1,1,1,1]

{"sheet":"DVOR","index":4,"n_rows":21,"n_cols":6,"rows_kept":21,"cut":false,"hidden":true,"merged":[]}
[]
["D","Radiofarol Omnidirecional em VHF (DVOR):","DVOR 1","DVOR 2","DVOR 3","DVOR 4"]
["D1","Indicativo:",1,1,1,1]
["D2","Coordenadas geográficas (latitude):",{"$f":"C16*10000+C17*100+C18","v":10101},{"$f":"D16*10000+D17*100+D18","v":10101},10101,10101]
["D3","Coordenadas geográficas (longitude):",{"$f":"C19*10000+C20*100+C21","v":10101},{"$f":"D19*10000+D20*100+D21","v":10101},10001,10001]
["D4","Raio da seção horizontal (m):",100,100,100,100]
["D5","Cota da seção horizontal (m):",{"$f":"C15","v":1},{"$f":"D15","v":1},{"$f":"E15","v":1},{"$f":"F15","v":1}]
["D6","Raio menor da seção em rampa (m):",100,100,100,100]
["D7","Raio maior da seção em rampa (m):",5100,5100,5100,5100]
["D8","Cota inferior da seção em rampa (m):",{"$f":"C15","v":1},{"$f":"D15","v":1},{"$f":"E15","v":1},{"$f":"F15","v":1}]
["D9","Cota superior da seção em rampa (m):",{"$f":"C10+(C9-C8)*C12","v":201},{"$f":"D10+(D9-D8)*D12","v":201},{"$f":"E10+(E9-E8)*E12","v":201},{"$f":"F10+(F9-F8)*F12","v":201}]
["D10","Gradiente da seção em rampa (%):",0.04,0.04,0.04,0.04]
[]
[]
[null,"altituda da base da antena",1,1,1,1]
[null,"LATITUDE",1,1,1,1]
[null,null,1,1,1,1]
[null,null,1,1,1,1]
[null,"LONGITUDE",1,1,1,1]
[null,null,1,1]
[null,null,1,1,1,1]

{"sheet":"VDB","index":5,"n_rows":21,"n_cols":6,"rows_kept":21,"cut":false,"hidden":true,"merged":[]}
[]
["E","Transmissor de Dados VHF (VDB):","VDB 1","VDB 2","VDB 3","VDB 4"]
["E1","Indicativo:",1,1,1,1]
["E2","Coordenadas geográficas (latitude):",{"$f":"C16*10000+C17*100+C18","v":10101},{"$f":"D16*10000+D17*100+D18","v":10101},10101,10001]
["E3","Coordenadas geográficas (longitude):",{"$f":"C19*10000+C20*100+C21","v":10101},{"$f":"D19*10000+D20*100+D21","v":10001},101,10101]
["E4","Raio da seção horizontal (m):",100,100,100,100]
["E5","Cota da seção horizontal (m):",{"$f":"C15","v":1},{"$f":"D15","v":1},{"$f":"E15","v":1},{"$f":"F15","v":1}]
["E6","Raio menor da seção em rampa (m):",100,100,100,100]
["E7","Raio maior da seção em rampa (m):",5100,5100,5100,5100]
["E8","Cota inferior da seção em rampa (m):",{"$f":"C15","v":1},{"$f":"D15","v":1},{"$f":"E15","v":1},{"$f":"F15","v":1}]
["E9","Cota superior da seção em rampa (m):",{"$f":"(C9-C8)*C12+C7","v":251},{"$f":"(D9-D8)*D12+D7","v":251},{"$f":"(E9-E8)*E12+E7","v":251},{"$f":"(F9-F8)*F12+F7","v":251}]
["E10","Gradiente da seção em rampa (%):",0.05,0.05,0.05,0.05]
[]
[]
[null,"ALTURA DA BASE DA ANTENA",1,1,1,1]
[null,null,1,1,1,1]
[null,null,1,1,1]
[null,null,1,1,1,1]
[null,null,1,1,null,1]
[null,null,1,null,1,1]
[null,null,1,1,1,1]

{"sheet":"EST","index":6,"n_rows":15,"n_cols":6,"rows_kept":15,"cut":false,"hidden":true,"merged":[]}
[]
["F","Estação de Referência:","EST 1","EST 2","EST 3","EST 4"]
["F1","Indicativo:"]
["F2","Coordenadas geográficas (latitude):",{"$f":"C16*10000+C17*100+C18","v":0},{"$f":"D16*10000+D17*100+D18","v":0},0,0]
["F3","Coordenadas geográficas (longitude):",{"$f":"C19*10000+C20*100+C21","v":0},{"$f":"D19*10000+D20*100+D21","v":0},0,0]
["F4","Raio da seção horizontal (m):",50,50,50,50]
["F5","Cota da seção horizontal (m):",{"$f":"C15","v":0},{"$f":"D15","v":0},{"$f":"E15","v":0},{"$f":"F15","v":0}]
["F6","Raio menor da seção em rampa (m):",50,50,50,50]
["F7","Raio maior da seção em rampa (m):",5050,5050,5050,5050]
["F8","Cota inferior da seção em rampa (m):",{"$f":"C15","v":0},{"$f":"D15","v":0},{"$f":"E15","v":0},{"$f":"F15","v":0}]
["F9","Cota superior da seção em rampa (m):",{"$f":"+C15+(C9-C6)*C12","v":250},{"$f":"+D15+(D9-D6)*D12","v":250},{"$f":"+E15+(E9-E6)*E12","v":250},{"$f":"+F15+(F9-F6)*F12","v":250}]
["F10","Gradiente da seção em rampa (%):",0.05,0.05,0.05,0.05]
[]
[]
[null,"ALTITUDE DA BASE DA ANTENA",0,0,0,0]

{"sheet":"GS","index":7,"n_rows":15,"n_cols":6,"rows_kept":15,"cut":false,"hidden":true,"merged":[]}
[]
["G","Transmissor de Rampa de Planeio (GS):","GS 1","GS 2","GS 3","GS 4"]
["G1","Cabeceira servida:"]
["G2","Coordenadas geográficas (latitude):",{"$f":"C16*10000+C17*100+C18","v":0},{"$f":"D16*10000+D17*100+D18","v":0},0,0]
["G3","Coordenadas geográficas (longitude):",{"$f":"C19*10000+C20*100+C21","v":0},{"$f":"D19*10000+D20*100+D21","v":0},0,0]
["G4","Comprimento da seção horizontal (m):",600,600,600,600]
["G5","Largura da seção horizontal (m):",{"$f":"C14+120","v":120},{"$f":"D14+120","v":120},{"$f":"E14+120","v":120},{"$f":"F14+120","v":120}]
["G6","Cota da seção horizontal (m):",{"$f":"C15","v":0},{"$f":"D15","v":0},{"$f":"E15","v":0},{"$f":"F15","v":0}]
["G7","Comprimento da seção em rampa (m):",9000,9000,9000,9000]
["G8","Largura da seção em rampa (m):",{"$f":"C7","v":120},{"$f":"D7","v":120},{"$f":"E7","v":120},{"$f":"F7","v":120}]
["G9","Cota inferior da seção em rampa (m):",{"$f":"C15","v":0},{"$f":"D15","v":0},{"$f":"E15","v":0},{"$f":"F15","v":0}]
["G10","Cota superior da seção em rampa (m):",{"$f":"C15+(C9*C13)","v":180},{"$f":"D15+(D9*D13)","v":180},{"$f":"E15+(E9*E13)","v":180},{"$f":"F15+(F9*F13)","v":180}]
["G11","Gradiente da seção em rampa (%):",0.02,0.02,0.02,0.02]
[null,"DISTANCIA ENTRE ANTENA E LATERAL DA PISTA (x)",null,null,0,0]
[null,"ALTURA DA BASE DA ANTENA",null,null,0,0]

{"sheet":"LOC","index":8,"n_rows":15,"n_cols":6,"rows_kept":15,"cut":false,"hidden":true,"merged":[]}
[]
["H","Localizador (LOC):","LOC 1","LOC 2","LOC 3","LOC 4"]
["H1","Indicativo:"]
["H2","Coordenadas geográficas (latitude):",{"$f":"C16*10000+C17*100+C18","v":0},{"$f":"D16*10000+D17*100+D18","v":0},0,0]
["H3","Coordenadas geográficas (longitude):",{"$f":"C19*10000+C20*100+C21","v":0},{"$f":"D19*10000+D20*100+D21","v":0},0,0]
["H4","Comprimento da seção horizontal (m):",{"$f":"C14+75","v":75},{"$f":"D14+75","v":75},{"$f":"E14+75","v":75},{"$f":"F14+75","v":75}]
["H5","Largura da seção horizontal (m):",150,150,150,150]
["H6","Cota da seção horizontal (m):",{"$f":"C15","v":0},{"$f":"D15","v":0},{"$f":"E15","v":0},{"$f":"F15","v":0}]
[]
[]
[]
[]
[]
[null,"DISTANCIA DO EIXO DAS ANTENAS À CABECEIRA",null,null,0,0]
[null,"ALTITUDE DA BASE DAS ANTENAS",null,null,0,0]

{"sheet":"MARC","index":9,"n_rows":15,"n_cols":6,"rows_kept":15,"cut":false,"hidden":true,"merged":[]}
[]
["I","Marcador:","MARC 1","MARC 2","MARC 3","MARC 4"]
["I1","Indicativo:"]
["I2","Cabeceira servida:"]
["I3","Coordenadas geográficas (latitude):",{"$f":"C16*10000+C17*100+C18","v":0},{"$f":"D16*10000+D17*100+D18","v":0},0,0]
["I4","Coordenadas geográficas (longitude):",{"$f":"C19*10000+C20*100+C21","v":0},{"$f":"D19*10000+D20*100+D21","v":0},0,0]
["I5","Raio da seção horizontal (m):",15,15,15,15]
["I6","Cota da seção horizontal (m):",{"$f":"C15","v":0},{"$f":"D15","v":0},{"$f":"E15","v":0},{"$f":"F15","v":0}]
[]
[]
[]
[]
[]
[]
[null,"BASE DO MARCADOR"]

{"sheet":"ALS","index":10,"n_rows":15,"n_cols":6,"rows_kept":15,"cut":false,"hidden":true,"merged":[]}
[]
["J","Sistema de Iluminação de Aproximação (ALS):","ALS 1","ALS 2","ALS 3","ALS 4"]
["J1","Cabeceira servida:"]
["J2","Comprimento da seção horizontal (m):",{"$f":"C14+100","v":100},{"$f":"D14+100","v":100},{"$f":"E14+100","v":100},{"$f":"F14+100","v":100}]
["J3","Largura da seção horizontal (m):",120,120,120,120]
["J4","Cota da seção horizontal (m):",{"$f":"C15","v":0},{"$f":"D15","v":0},{"$f":"E15","v":0},{"$f":"F15","v":0}]
["J5","Comprimento da seção em rampa (m):",9000,9000,9000,9000]
["J6","Largura da seção em rampa (m):",120,120,120,120]
["J7","Cota inferior da seção em rampa (m):",{"$f":"C15","v":0},{"$f":"D15","v":0},{"$f":"E15","v":0},{"$f":"F15","v":0}]
["J8","Cota superior da seção em rampa (m):",{"$f":"C15+(C7*C11)","v":180},{"$f":"D15+(D7*D11)","v":180},{"$f":"E15+(E7*E11)","v":180},{"$f":"F15+(F7*F11)","v":180}]
["J9","Gradiente da seção em rampa (%):",0.02,0.02,0.02,0.02]
[]
[]
[null,"DISTANCIA CABECEIRA À ÚLTIMA BARRA DE LUZES",0,0,0,0]
[null,"COTA DA CABECEIRA ATENDIDA",0,0,0,0]

{"sheet":"VASIS","index":11,"n_rows":17,"n_cols":11,"rows_kept":17,"cut":false,"hidden":true,"merged":[]}
[]
["K","Sistemas Indicadores de Rampa de Aproximação Visual (VASIS, PAPI e APAPI):","EQUIP 1","EQUIP 2","EQUIP 3","EQUIP 4",null,"VFR"]
["K1","Cabeceira servida:",{"$f":"C14","v":30},{"$f":"D14","v":0},{"$f":"E14","v":0},{"$f":"F14","v":0},null,"IFR",1,"VASIS"]
["K2","Largura da borda interna (m):",{"$f":"IF(AND(C12>2,C13=\"VFR\"),150,IF(AND(C12<3,C13=\"IFR\"),150,IF(C12=1,30,IF(C12=2,60,300))))","v":60},{"$f":"IF(AND(D12>2,D13=\"VFR\"),150,IF(AND(D12<3,D13=\"IFR\"),150,IF(D12=1,30,IF(D12=2,60,300))))","v":300},{"$f":"IF(AND(E12>2,E13=\"VFR\"),150,IF(AND(E12<3,E13=\"IFR\"),150,IF(E12=1,30,IF(E12=2,60,300))))","v":300},{"$f":"IF(AND(F12>2,F13=\"VFR\"),150,IF(AND(F12<3,F13=\"IFR\"),150,IF(F12=1,30,IF(F12=2,60,300))))","v":300},null,"VFR",2,"PAPI"]
["K3","Distância da cabeceira (m):",{"$f":"IF(AND(C12=1,C13=\"VFR\"),30,60)","v":60},{"$f":"IF(AND(D12=1,D13=\"VFR\"),30,60)","v":60},{"$f":"IF(AND(E12=1,E13=\"VFR\"),30,60)","v":60},{"$f":"IF(AND(F12=1,F13=\"VFR\"),30,60)","v":60},null,null,3,"APAPI"]
["K4","Elevação da borda interna (m):",{"$f":"C15","v":722.6},{"$f":"D15","v":0},{"$f":"E15","v":0},{"$f":"F15","v":0},null,null,4]
["K5","Divergência (%):",{"$f":"IF(C13=\"IFR\",0.15,0.1)","v":0.1},{"$f":"IF(D13=\"IFR\",0.15,0.1)","v":0.1},{"$f":"IF(E13=\"IFR\",0.15,0.1)","v":0.1},{"$f":"IF(F13=\"IFR\",0.15,0.1)","v":0.1}]
["K6","Comprimento (m):",{"$f":"IF(C12<3,7500,15000)","v":7500},{"$f":"IF(D12<3,7500,15000)","v":7500},{"$f":"IF(E12<3,7500,15000)","v":7500},{"$f":"IF(F12<3,7500,15000)","v":7500}]
["K7","Gradiente (%):",{"$f":"IF(C16=\"vasis\",IF(C12=1,\"NA\",TAN(1.9*PI()/180)),IF(C16=\"papi\",IF(OR(C12>1,C13=\"IFR\"),TAN((C17-0.57)*PI()/180),\"NA\"),IF(C16=\"apapi\",IF(C12<3,TAN((C17-0.9)*PI()/180),\"NA\"))))","v":3.142626604335115E-2},{"$f":"IF(D16=\"vasis\",IF(D12=1,\"NA\",TAN(1.9*PI()/180)),IF(D16=\"papi\",IF(OR(D12>1,D13=\"IFR\"),TAN((D17-0.57)*PI()/180),\"NA\"),IF(D16=\"apapi\",IF(D12<3,TAN((D17-0.9)*PI()/180),\"NA\"))))","v":false},false,false]
["K8","Elevação da borda externa (m):",{"$f":"C8*C9+C15","v":958.29699532513359},{"$f":"D8*D9+D15","v":0},{"$f":"E8*E9+E15","v":0},{"$f":"F8*F9+F15","v":0}]
[null,null,null,null,null,null,null,null,null,null,{"$f":"TAN(45*PI()/180)","v":0.99999999999999989}]
[null,"NÚMERO DO CÓDIGO DE REFERÊNCIA",2]
[null,"TIPO DE OPERAÇÃO","VFR"]
[null,"CABECEIRA SERVIDA",30]
[null,"ELEVAÇÃO DA CABECEIRA SERVIDA",722.6]
[null,"EQUIPAMENTO","APAPI"]
[null,"ÂNGULO INFERIOR (INFORMADO PELO GEIV)",2.7]

{"sheet":"ASR","index":12,"n_rows":15,"n_cols":6,"rows_kept":15,"cut":false,"hidden":true,"merged":[]}
[]
["L","Radar de Vigilância (ASR) / Meteorológico:","EQUIP 1","EQUIP 2","EQUIP 3","EQUIP 4"]
["L1","Coordenadas geográficas (latitude):",{"$f":"C16*10000+C17*100+C18","v":0},{"$f":"D16*10000+D17*100+D18","v":0},0,0]
["L2","Coordenadas geográficas (longitude):",{"$f":"C19*10000+C20*100+C21","v":0},{"$f":"D19*10000+D20*100+D21","v":0},0,0]
["L3","Raio da seção horizontal (m):",100,100,100,100]
["L4","Cota da seção horizontal (m):",{"$f":"C15","v":0},{"$f":"D15","v":0},{"$f":"E15","v":0},{"$f":"F15","v":0}]
["L5","Raio menor da seção em rampa (m):",100,100,100,100]
["L6","Raio maior da seção em rampa (m):",5100,5100,5100,5100]
["L7","Cota inferior da seção em rampa (m):",{"$f":"C15","v":0},{"$f":"D15","v":0},{"$f":"E15","v":0},{"$f":"F15","v":0}]
["L8","Cota superior da seção em rampa (m):",{"$f":"C9+(C8-C7)*C11","v":250},{"$f":"D9+(D8-D7)*D11","v":250},{"$f":"E9+(E8-E7)*E11","v":250},{"$f":"F9+(F8-F7)*F11","v":250}]
["L9","Gradiente da seção em rampa (%):",0.05,0.05,0.05,0.05]
[]
[]
[]
[null,"BASE DA ANTENA",0,0,0,0]

{"sheet":"ADSB","index":13,"n_rows":15,"n_cols":6,"rows_kept":15,"cut":false,"hidden":true,"merged":[]}
[]
["N","Vigilância com Localização Automática Dependente por Radiodifusão (ADS-B):","ADS-B 1","ADS-B 2","ADS-B 3","ADS-B 4"]
["N1","Coordenadas geográficas (latitude):",{"$f":"C18*10000+C19*100+C20","v":0},{"$f":"D18*10000+D19*100+D20","v":0},0,0]
["N2","Coordenadas geográficas (longitude):",{"$f":"C21*10000+C22*100+C23","v":0},{"$f":"D21*10000+D22*100+D23","v":0},0,0]
["N3","Raio da seção horizontal (m):",100,100,100,100]
["N4","Cota da seção horizontal (m):",{"$f":"C15","v":0},{"$f":"D15","v":0},{"$f":"E15","v":0},{"$f":"F15","v":0}]
["N5","Raio menor da seção em rampa (m):",100,100,100,100]
["N6","Raio maior da seção em rampa (m):",5100,5100,5100,5100]
["N7","Cota inferior da seção em rampa (m):",{"$f":"C15","v":0},{"$f":"D15","v":0},{"$f":"E15","v":0},{"$f":"F15","v":0}]
["N8","Cota superior da seção em rampa (m):",{"$f":"C9+(C8-C7)*C11","v":250},{"$f":"D9+(D8-D7)*D11","v":250},{"$f":"E9+(E8-E7)*E11","v":250},{"$f":"F9+(F8-F7)*F11","v":250}]
["N9","Gradiente da seção em rampa (%):",0.05,0.05,0.05,0.05]
[]
[]
[]
[null,"BASE DA ANTENA DO ADS",0,0,0,0]

{"sheet":"PAR","index":14,"n_rows":23,"n_cols":6,"rows_kept":23,"cut":false,"hidden":true,"merged":[]}
[]
["M","Radar de Aproximação de Precisão (PAR):","PAR 1","PAR 2","PAR 3","PAR 4"]
["M1","Coordenadas geográficas (latitude):",{"$f":"C24*10000+C25*100+C26","v":0},{"$f":"D24*10000+D25*100+D26","v":0},0,0]
["M2","Coordenadas geográficas (longitude):",{"$f":"C27*10000+C28*100+C29","v":0},{"$f":"D27*10000+D28*100+D29","v":0},0,0]
["M3","Raio da seção horizontal 1 (m):",100,100,100,100]
["M4","Cota da seção horizontal 1 (m):",{"$f":"C20","v":0},{"$f":"D20","v":0},{"$f":"E20","v":0},{"$f":"F20","v":0}]
["M5","Abertura para o lado da pista da seção horizontal 2 (%):",{"$f":"TAN(C21*PI()/180)","v":0.36397023426620234},0.36397023426620234,0.36397023426620234,0.36397023426620234]
["M6","Abertura para o lado oposto da pista da seção horizontal 2 (%):",0.17632698070846498,0.17632698070846498,0.17632698070846498,0.17632698070846498]
["M7","Raio da seção horizontal 2 (m):",{"$f":"C23","v":0},{"$f":"D23","v":0},{"$f":"E23","v":0},{"$f":"F23","v":0}]
["M8","Cota da seção horizontal 2 (m):",{"$f":"C20","v":0},{"$f":"D20","v":0},{"$f":"E20","v":0},{"$f":"F20","v":0}]
["M9","Abertura para o lado da pista da seção em rampa (%):",{"$f":"C7","v":0.36397023426620234},0.36397023426620234,0.36397023426620234,0.36397023426620234]
["M10","Abertura para o lado oposto da pista da em rampa (%):",0.17632698070846498,0.17632698070846498,0.17632698070846498,0.17632698070846498]
["M11","Raio menor da seção em rampa (m):",0,0,0,0]
["M12","Raio maior da seção em rampa (m):",{"$f":"C13+5000","v":5000},{"$f":"D13+5000","v":5000},{"$f":"E13+5000","v":5000},{"$f":"F13+5000","v":5000}]
["M13","Cota inferior da seção em rampa (m):",{"$f":"C10","v":0},{"$f":"D10","v":0},{"$f":"E10","v":0},{"$f":"F10","v":0}]
["M14","Cota superior da seção em rampa (m):",{"$f":"C15+(5000*C17)","v":100},{"$f":"D15+(5000*D17)","v":100},{"$f":"E15+(5000*E17)","v":100},{"$f":"F15+(5000*F17)","v":100}]
["M15","Gradiente da seção em rampa (%):",0.02,0.02,0.02,0.02]
[]
[]
[null,"ALTITUDE DA BASE DA ESTRUTURA DO PAR",0,0,0,0]
[null,"ABERTURA PARA O LADO DA PISTA (GRAUS)",20,20,20,20]
[null,"ABERTURA PARA O LADO OPOSTO DA PISTA (GRAUS)",10,10,10,10]
[null,"DISTANCIA DA BASE DA ANTENA AO PONTO DE TOQUE",0,0,0,0]